BEGIN:VCALENDAR
VERSION:2.0
PRODID:-//Chapman Property/EPL//NONSGML v1.0//EN
METHOD:PUBLISH
BEGIN:VEVENT
DTSTART:20210301T163000
DTEND:20210301T164500
LOCATION:14/82 Frederick St, Merewether MEREWETHER, NSW 2291
URL:https://chapmanproperty.com.au/rental/14-82-frederick-st-merewether-merewether-nsw-2291/
TRANSP:OPAQUE
SEQUENCE:0
UID:797911614463153
DTSTAMP:20210227T115913Z
SUMMARY:Home Open - DIRECT MEREWETHER BEACH ACCESS
DESCRIPTION:3 Bedroom Townhouse Overlooking Merewether Beach\nBuilt in robes.\nLarge living area downstairs with timber flooring.\nFreshly painted throughout\nOutdoor entertaining with panormanic ocean view.\nWater usage included.\nClose walking to Junction & Darby Street dinging and shopping precincts.\nOn bus route.
PRIORITY:1
CLASS:PUBLIC
BEGIN:VALARM
TRIGGER:-PT10080M
ACTION:DISPLAY
DESCRIPTION:Reminder
END:VALARM
END:VEVENT
END:VCALENDAR
