BEGIN:VCALENDAR
VERSION:2.0
PRODID:-//Chapman Property/EPL//NONSGML v1.0//EN
METHOD:PUBLISH
BEGIN:VEVENT
DTSTART:20210224T161500
DTEND:20210224T163000
LOCATION:301/15 HONEYSUCKLE DRIVE NEWCASTLE, NSW 2300
URL:https://chapmanproperty.com.au/rental/301-15-honeysuckle-drive-newcastle-nsw-2300/
TRANSP:OPAQUE
SEQUENCE:0
UID:684481614463636
DTSTAMP:20210227T120716Z
SUMMARY:Home Open - STYLISH  TWO BEDROOM HARBOR SIDE APARTMENT
DESCRIPTION:Perfectly positioned address encapsulating Newcastle’s ultimate waterfront lifestyle\, this exceptional apartment offers uncompromising views inner city skyline\, Harbour and beyond. Take pleasure in this superb north easterly outlook and benefit from the pristine inclusions that surround you. Boasting open plan living\, fantastic sized bedrooms\, state of the art bathrooms and contemporary kitchen this property is a must inspect.\n\n-	Two great sized bedrooms both with built in wardrobes\n-	Ultra-modern bathrooms with marble feature walls and the state of art finishes\n-	Contemporary kitchen with stainless steel appliances and gas cooking\n-	Polished timber floorboards throughout living areas\n-	Ceramic tiled balcony with million dollar views of Newcastle harbor\n-	Ample storage throughout and internal laundry \n-	Secure building with one car space \n-	Minutes away from Marketown Shopping Centre\, Honeysuckle Wharf\, Newcastle University                            Campus & local beaches and transport\n\nTo organise an inspection or to discuss further\, please contact JYE ANTUNOVICH -  CHAPMAN PROPERTY ON 49261400 OR REGISTER YOUR DETAILS BY VISITING CHAPMAN PROPERTY.COM.AU AND BOOK YOUR INSPECTION\n\nIn order to facilitate a faster response and to increase your chances of securing the property\, application forms can be downloaded from our website at www.chapmanproperty.com.au. Completed application forms may be given to the property manager at the time of the inspection.\n\n\n* Follow us on facebook\, instagram & twitter for the latest updates on inspections\, new rentals & new properties for sale.
PRIORITY:1
CLASS:PUBLIC
BEGIN:VALARM
TRIGGER:-PT10080M
ACTION:DISPLAY
DESCRIPTION:Reminder
END:VALARM
END:VEVENT
END:VCALENDAR
