BEGIN:VCALENDAR
VERSION:2.0
PRODID:-//Chapman Property/EPL//NONSGML v1.0//EN
METHOD:PUBLISH
BEGIN:VEVENT
DTSTART:20210225T163000
DTEND:20210225T164500
LOCATION:2/46 GEORGE STREET MAYFIELD, NSW 2304
URL:https://chapmanproperty.com.au/rental/2-46-george-street-mayfield-nsw-2304/
TRANSP:OPAQUE
SEQUENCE:0
UID:798391614463376
DTSTAMP:20210227T120256Z
SUMMARY:Home Open - TOP LEVEL REVAMPED TWO BEDDER WITH HOME OFFICE
DESCRIPTION:Upper floor flat\, large scale revamp project completed in 2020\, offers the right tenant a generous amount of well set out space combined with modern amenities.\n \n* Large main bedroom with beautiful polished floorboards and tall ceilings\n* Combined living and dining area\, ample room for a medium sized dining setting and entertainment package to fit.\n* Jaw dropping kitchen with feature stone island bench space\, perfect for someone who likes to indulge in cooking. Electric cooking\, eye catching splashback and large space for a single door fridge.\n* Second bedroom\, space for a queen to king bed.\n* Modern recently renovated bathroom with large shower and toilet.\n* Home Office\, ideal for occupants who operate from home or multi-functional as music room or nursery.\n* Side lane area that can be secured\, space for an outdoor table and chairs.. \n* Space in kitchen for a front loader washer with plumbing available. \n* Plenty of on street parking available.
PRIORITY:1
CLASS:PUBLIC
BEGIN:VALARM
TRIGGER:-PT10080M
ACTION:DISPLAY
DESCRIPTION:Reminder
END:VALARM
END:VEVENT
END:VCALENDAR
